BEGIN:VCALENDAR
VERSION:2.0
PRODID:-//pretix//pretix.eu//
BEGIN:VTIMEZONE
TZID:Europe/Berlin
BEGIN:STANDARD
DTSTART:20001029T040000
RRULE:FREQ=YEARLY;BYDAY=-1SU;BYMONTH=10
TZNAME:CET
TZOFFSETFROM:+0200
TZOFFSETTO:+0100
END:STANDARD
BEGIN:DAYLIGHT
DTSTART:20000326T030000
RRULE:FREQ=YEARLY;BYDAY=-1SU;BYMONTH=3
TZNAME:CEST
TZOFFSETFROM:+0100
TZOFFSETTO:+0200
END:DAYLIGHT
END:VTIMEZONE
BEGIN:VEVENT
UID:pretix-bsidesmunich-2022-0@pretix.eu
DTSTART;TZID=Europe/Berlin:20220515T090000
DTEND;TZID=Europe/Berlin:20220516T180000
DESCRIPTION:Tickets: https://pretix.eu/bsidesmunich/2022/\nAdmission: 2022-
 05-15 08:00\nOrganizer: BSides Munich
DTSTAMP:20260424T174009Z
LOCATION:Hilton Munich Park (Am Tucherpark 7\, 80538 München)
SUMMARY:BSides Munich 2022
END:VEVENT
END:VCALENDAR
