BEGIN:VCALENDAR
VERSION:2.0
PRODID:-//pretix//pretix.eu//
BEGIN:VTIMEZONE
TZID:Europe/Berlin
BEGIN:STANDARD
DTSTART:20001029T040000
RRULE:FREQ=YEARLY;BYDAY=-1SU;BYMONTH=10
TZNAME:CET
TZOFFSETFROM:+0200
TZOFFSETTO:+0100
END:STANDARD
BEGIN:DAYLIGHT
DTSTART:20000326T030000
RRULE:FREQ=YEARLY;BYDAY=-1SU;BYMONTH=3
TZNAME:CEST
TZOFFSETFROM:+0100
TZOFFSETTO:+0200
END:DAYLIGHT
END:VTIMEZONE
BEGIN:VEVENT
UID:pretix-buchhandlungschmid-boelter26-0@pretix.eu
DTSTART;TZID=Europe/Berlin:20260325T200000
DTEND;TZID=Europe/Berlin:20260325T220000
DESCRIPTION:Tickets: https://pretix.eu/buchhandlungschmid/boelter26/\nEinla
 ss: 25.03.2026 19:30\nVeranstalter: Buchhandlung Schmid
DTSTAMP:20260424T140146Z
LOCATION:Buchhandlung Schmid\, Fuggerst. 14\, 86830 Schwabmünchen
SUMMARY:BOOKSHOP LIVE: Philip Bölter - SOLO
END:VEVENT
BEGIN:VEVENT
UID:pretix-buchhandlungschmid-maxjoseph-26-0@pretix.eu
DTSTART;TZID=Europe/Berlin:20260416T200000
DTEND;TZID=Europe/Berlin:20260416T220000
DESCRIPTION:Tickets: https://pretix.eu/buchhandlungschmid/maxjoseph-26/\nEi
 nlass: 16.04.2026 19:30\nVeranstalter: Buchhandlung Schmid
DTSTAMP:20260424T140146Z
LOCATION:Gemeindezentrum St. Gallus\, Pfarrgasse 3\, 86853 Langerringen
SUMMARY:BOOKSHOP LIVE: Maxjoseph - NAU
END:VEVENT
BEGIN:VEVENT
UID:pretix-buchhandlungschmid-3onthebund-0@pretix.eu
DTSTART;TZID=Europe/Berlin:20260425T200000
DTEND;TZID=Europe/Berlin:20260425T220000
DESCRIPTION:Tickets: https://pretix.eu/buchhandlungschmid/3onthebund/\nEinl
 ass: 25.04.2026 19:30\nVeranstalter: Buchhandlung Schmid
DTSTAMP:20260424T140146Z
LOCATION:Gemeindezentrum St. Gallus\, Pfarrgasse 3\, 86853 Langerringen
SUMMARY:BOOKSHOP LIVE: 3 on the Bund
END:VEVENT
BEGIN:VEVENT
UID:pretix-buchhandlungschmid-knutur-0@pretix.eu
DTSTART;TZID=Europe/Berlin:20260430T200000
DTEND;TZID=Europe/Berlin:20260430T220000
DESCRIPTION:Tickets: https://pretix.eu/buchhandlungschmid/knutur/\nEinlass:
  30.04.2026 19:30\nVeranstalter: Buchhandlung Schmid
DTSTAMP:20260424T140146Z
LOCATION:Buchhandlung Schmid\, Fuggerst. 14\, 86830 Schwabmünchen
SUMMARY:BOOKSHOP LIVE: Svavar Knútur
END:VEVENT
BEGIN:VEVENT
UID:pretix-buchhandlungschmid-bluegrasscash-0@pretix.eu
DTSTART;TZID=Europe/Berlin:20260507T200000
DTEND;TZID=Europe/Berlin:20260507T220000
DESCRIPTION:Tickets: https://pretix.eu/buchhandlungschmid/bluegrasscash/\nE
 inlass: 07.05.2026 19:30\nVeranstalter: Buchhandlung Schmid
DTSTAMP:20260424T140146Z
LOCATION:Gemeindezentrum St. Gallus\, Pfarrgasse 3\, 86853 Langerringen
SUMMARY:BOOKSHOP LIVE: Bluegrass Cash & Kikki Géron
END:VEVENT
BEGIN:VEVENT
UID:pretix-buchhandlungschmid-rotkaeppchen-0@pretix.eu
DTSTART;TZID=Europe/Berlin:20260509T150000
DTEND;TZID=Europe/Berlin:20260509T163000
DESCRIPTION:Tickets: https://pretix.eu/buchhandlungschmid/rotkaeppchen/\nEi
 nlass: 09.05.2026 14:30\nVeranstalter: Buchhandlung Schmid
DTSTAMP:20260424T140146Z
LOCATION:Gemeindezentrum St. Gallus\, Pfarrgasse 3\, 86853 Langerringen
SUMMARY:BOOKSHOP LIVE: Stefan Murr & Heinz-Josef Braun - Das Bayerische Rot
 käppchen
END:VEVENT
BEGIN:VEVENT
UID:pretix-buchhandlungschmid-rudolf26-0@pretix.eu
DTSTART;TZID=Europe/Berlin:20260513T200000
DTEND;TZID=Europe/Berlin:20260513T220000
DESCRIPTION:Tickets: https://pretix.eu/buchhandlungschmid/rudolf26/\nEinlas
 s: 13.05.2026 19:30\nVeranstalter: Buchhandlung Schmid
DTSTAMP:20260424T140146Z
LOCATION:Einrichtungshaus Bruckner\, Augsburger Str. 76\, 86830 Schwabmünc
 hen
SUMMARY:BOOKSHOP LIVE: "Kriminacht am Kanapee" mit Emily Rudolf
END:VEVENT
BEGIN:VEVENT
UID:pretix-buchhandlungschmid-odonnell26-0@pretix.eu
DTSTART;TZID=Europe/Berlin:20260519T200000
DTEND;TZID=Europe/Berlin:20260519T220000
DESCRIPTION:Tickets: https://pretix.eu/buchhandlungschmid/odonnell26/\nEinl
 ass: 19.05.2026 19:30\nVeranstalter: Buchhandlung Schmid
DTSTAMP:20260424T140146Z
LOCATION:Christuskirche Schwabmünchen\, Holzheystr. 22\, 86830 Schwabmünc
 hen
SUMMARY:BOOKSHOP LIVE: Ger O'Donnell & Trevor Sexton
END:VEVENT
BEGIN:VEVENT
UID:pretix-buchhandlungschmid-orchestramondo-0@pretix.eu
DTSTART;TZID=Europe/Berlin:20260613T200000
DTEND;TZID=Europe/Berlin:20260613T220000
DESCRIPTION:Tickets: https://pretix.eu/buchhandlungschmid/orchestramondo/\n
 Einlass: 13.06.2026 19:30\nVeranstalter: Buchhandlung Schmid
DTSTAMP:20260424T140146Z
LOCATION:Bürgerhaus Graben\, Lechfelder Str. 12\, 86836 Graben
SUMMARY:BOOKSHOP LIVE: Orchestra Mondo - Tango meets Gypsy: La Vie Bohème
END:VEVENT
BEGIN:VEVENT
UID:pretix-buchhandlungschmid-martinabogdahn26-0@pretix.eu
DTSTART;TZID=Europe/Berlin:20260618T200000
DTEND;TZID=Europe/Berlin:20260618T220000
DESCRIPTION:Tickets: https://pretix.eu/buchhandlungschmid/martinabogdahn26/
 \nEinlass: 18.06.2026 19:30\nVeranstalter: Buchhandlung Schmid
DTSTAMP:20260424T140146Z
LOCATION:Buchhandlung Schmid\, Fuggerst. 14\, 86830 Schwabmünchen
SUMMARY:BOOKSHOP LIVE: Martina Bogdahn - Mirabellentage
END:VEVENT
BEGIN:VEVENT
UID:pretix-buchhandlungschmid-falgren-0@pretix.eu
DTSTART;TZID=Europe/Berlin:20260625T200000
DTEND;TZID=Europe/Berlin:20260625T220000
DESCRIPTION:Tickets: https://pretix.eu/buchhandlungschmid/falgren/\nEinlass
 : 25.06.2026 19:30\nVeranstalter: Buchhandlung Schmid
DTSTAMP:20260424T140146Z
LOCATION:Buchhandlung Schmid\, Fuggerst. 14\, 86830 Schwabmünchen
SUMMARY:BOOKSHOP LIVE: Bjarke Falgren & Sönke Meinen
END:VEVENT
BEGIN:VEVENT
UID:pretix-buchhandlungschmid-rimmerding26-0@pretix.eu
DTSTART;TZID=Europe/Berlin:20260701T200000
DTEND;TZID=Europe/Berlin:20260701T220000
DESCRIPTION:Tickets: https://pretix.eu/buchhandlungschmid/rimmerding26/\nEi
 nlass: 01.07.2026 19:30\nVeranstalter: Buchhandlung Schmid
DTSTAMP:20260424T140146Z
LOCATION:Gemeindezentrum St. Gallus\, Pfarrgasse 3\, 86853 Langerringen
SUMMARY:BOOKSHOP LIVE: Out of Rimmerding
END:VEVENT
BEGIN:VEVENT
UID:pretix-buchhandlungschmid-san2unplugged-0@pretix.eu
DTSTART;TZID=Europe/Berlin:20260711T200000
DTEND;TZID=Europe/Berlin:20260711T220000
DESCRIPTION:Tickets: https://pretix.eu/buchhandlungschmid/san2unplugged/\nE
 inlass: 11.07.2026 19:30\nVeranstalter: Buchhandlung Schmid
DTSTAMP:20260424T140146Z
LOCATION:Schützenverein Klosterlechfeld\, Franziskanerplatz 6a\, 86836 Klo
 sterlechfeld
SUMMARY:BOOKSHOP LIVE: San2 unplugged - feat. Sebastian Schwarzenberger
END:VEVENT
BEGIN:VEVENT
UID:pretix-buchhandlungschmid-steinkellner-0@pretix.eu
DTSTART;TZID=Europe/Berlin:20260721T200000
DTEND;TZID=Europe/Berlin:20260721T220000
DESCRIPTION:Tickets: https://pretix.eu/buchhandlungschmid/steinkellner/\nEi
 nlass: 21.07.2026 19:30\nVeranstalter: Buchhandlung Schmid
DTSTAMP:20260424T140146Z
LOCATION:Gemeindezentrum St. Gallus\, Pfarrgasse 3\, 86853 Langerringen
SUMMARY:BOOKSHOP LIVE: Jakob Steinkellner Duo - Soundkistn
END:VEVENT
BEGIN:VEVENT
UID:pretix-buchhandlungschmid-charmoffinches-0@pretix.eu
DTSTART;TZID=Europe/Berlin:20260905T200000
DTEND;TZID=Europe/Berlin:20260905T220000
DESCRIPTION:Tickets: https://pretix.eu/buchhandlungschmid/charmoffinches/\n
 Einlass: 05.09.2026 19:30\nVeranstalter: Buchhandlung Schmid
DTSTAMP:20260424T140146Z
LOCATION:Buchhandlung Schmid\, Fuggerst. 14\, 86830 Schwabmünchen
SUMMARY:BOOKSHOP LIVE: Charm of Finches
END:VEVENT
BEGIN:VEVENT
UID:pretix-buchhandlungschmid-egersdoerfer-0@pretix.eu
DTSTART;TZID=Europe/Berlin:20260911T200000
DTEND;TZID=Europe/Berlin:20260911T220000
DESCRIPTION:Tickets: https://pretix.eu/buchhandlungschmid/egersdoerfer/\nEi
 nlass: 11.09.2026 19:30\nVeranstalter: Buchhandlung Schmid
DTSTAMP:20260424T140146Z
LOCATION:Gemeindezentrum St. Gallus\, Pfarrgasse 3\, 86853 Langerringen
SUMMARY:BOOKSHOP LIVE: Matthias Egersdörfer - langsam
END:VEVENT
BEGIN:VEVENT
UID:pretix-buchhandlungschmid-kobr26-0@pretix.eu
DTSTART;TZID=Europe/Berlin:20260916T200000
DTEND;TZID=Europe/Berlin:20260916T220000
DESCRIPTION:Tickets: https://pretix.eu/buchhandlungschmid/kobr26/\nEinlass:
  16.09.2026 19:30\nVeranstalter: Buchhandlung Schmid
DTSTAMP:20260424T140146Z
LOCATION:Gemeindezentrum St. Gallus\, Pfarrgasse 3\, 86853 Langerringen
SUMMARY:BOOKSHOP LIVE: Michael Kobr - Sturm über Christiansø
END:VEVENT
BEGIN:VEVENT
UID:pretix-buchhandlungschmid-landsteiner26-0@pretix.eu
DTSTART;TZID=Europe/Berlin:20261001T200000
DTEND;TZID=Europe/Berlin:20261001T220000
DESCRIPTION:Tickets: https://pretix.eu/buchhandlungschmid/landsteiner26/\nE
 inlass: 01.10.2026 19:30\nVeranstalter: Buchhandlung Schmid
DTSTAMP:20260424T140146Z
LOCATION:Buchhandlung Schmid\, Fuggerst. 14\, 86830 Schwabmünchen
SUMMARY:BOOKSHOP LIVE: Anika Landsteiner - Träume aus Salz
END:VEVENT
BEGIN:VEVENT
UID:pretix-buchhandlungschmid-smokhamill-0@pretix.eu
DTSTART;TZID=Europe/Berlin:20261010T200000
DTEND;TZID=Europe/Berlin:20261010T220000
DESCRIPTION:Tickets: https://pretix.eu/buchhandlungschmid/smokhamill/\nEinl
 ass: 10.10.2026 19:30\nVeranstalter: Buchhandlung Schmid
DTSTAMP:20260424T140146Z
LOCATION:Gemeindezentrum St. Gallus\, Pfarrgasse 3\, 86853 Langerringen
SUMMARY:BOOKSHOP LIVE: Project Smok & Ainsley Hamill
END:VEVENT
BEGIN:VEVENT
UID:pretix-buchhandlungschmid-winkelbeiner26-0@pretix.eu
DTSTART;TZID=Europe/Berlin:20261017T200000
DTEND;TZID=Europe/Berlin:20261017T220000
DESCRIPTION:Tickets: https://pretix.eu/buchhandlungschmid/winkelbeiner26/\n
 Einlass: 17.10.2026 19:30\nVeranstalter: Buchhandlung Schmid
DTSTAMP:20260424T140146Z
LOCATION:Gemeindezentrum St. Gallus\, Pfarrgasse 3\, 86853 Langerringen
SUMMARY:BOOKSHOP LIVE: Ralf Winkelbeiner - HAPPY
END:VEVENT
BEGIN:VEVENT
UID:pretix-buchhandlungschmid-mufuti-0@pretix.eu
DTSTART;TZID=Europe/Berlin:20261022T200000
DTEND;TZID=Europe/Berlin:20261022T220000
DESCRIPTION:Tickets: https://pretix.eu/buchhandlungschmid/mufuti/\nEinlass:
  22.10.2026 19:30\nVeranstalter: Buchhandlung Schmid
DTSTAMP:20260424T140146Z
LOCATION:Buchhandlung Schmid\, Fuggerst. 14\, 86830 Schwabmünchen
SUMMARY:BOOKSHOP LIVE: Mufuti Twins
END:VEVENT
BEGIN:VEVENT
UID:pretix-buchhandlungschmid-newcomer-0@pretix.eu
DTSTART;TZID=Europe/Berlin:20261028T200000
DTEND;TZID=Europe/Berlin:20261028T220000
DESCRIPTION:Tickets: https://pretix.eu/buchhandlungschmid/newcomer/\nEinlas
 s: 28.10.2026 19:30\nVeranstalter: Buchhandlung Schmid
DTSTAMP:20260424T140146Z
LOCATION:Buchhandlung Schmid\, Fuggerst. 14\, 86830 Schwabmünchen
SUMMARY:BOOKSHOP LIVE: Newcomer Night mit Eva Pramschüfer und Timothy Paul
  - Musik: Lya
END:VEVENT
BEGIN:VEVENT
UID:pretix-buchhandlungschmid-goitse26-0@pretix.eu
DTSTART;TZID=Europe/Berlin:20261104T200000
DTEND;TZID=Europe/Berlin:20261104T220000
DESCRIPTION:Tickets: https://pretix.eu/buchhandlungschmid/goitse26/\nEinlas
 s: 04.11.2026 19:30\nVeranstalter: Buchhandlung Schmid
DTSTAMP:20260424T140146Z
LOCATION:Gemeindezentrum St. Gallus\, Pfarrgasse 3\, 86853 Langerringen
SUMMARY:BOOKSHOP LIVE: Goitse
END:VEVENT
BEGIN:VEVENT
UID:pretix-buchhandlungschmid-fitzek-0@pretix.eu
DTSTART;TZID=Europe/Berlin:20261105T200000
DTEND;TZID=Europe/Berlin:20261105T220000
DESCRIPTION:Tickets: https://pretix.eu/buchhandlungschmid/fitzek/\nEinlass:
  05.11.2026 19:30\nVeranstalter: Buchhandlung Schmid
DTSTAMP:20260424T140146Z
LOCATION:Buchhandlung Schmid\, Fuggerst. 14\, 86830 Schwabmünchen
SUMMARY:BOOKSHOP LIVE: Sebastian Fitzek - Der Nachtzug - Jubiläumstour
END:VEVENT
BEGIN:VEVENT
UID:pretix-buchhandlungschmid-pichler26-0@pretix.eu
DTSTART;TZID=Europe/Berlin:20261113T200000
DTEND;TZID=Europe/Berlin:20261113T220000
DESCRIPTION:Tickets: https://pretix.eu/buchhandlungschmid/pichler26/\nEinla
 ss: 13.11.2026 19:30\nVeranstalter: Buchhandlung Schmid
DTSTAMP:20260424T140146Z
LOCATION:Gemeindezentrum St. Gallus\, Pfarrgasse 3\, 86853 Langerringen
SUMMARY:BOOKSHOP LIVE: Claudia Pichler - Kopfnuss und Konterbier
END:VEVENT
BEGIN:VEVENT
UID:pretix-buchhandlungschmid-cara26-0@pretix.eu
DTSTART;TZID=Europe/Berlin:20261121T200000
DTEND;TZID=Europe/Berlin:20261121T223000
DESCRIPTION:Tickets: https://pretix.eu/buchhandlungschmid/cara26/\nEinlass:
  21.11.2026 19:00\nVeranstalter: Buchhandlung Schmid
DTSTAMP:20260424T140146Z
LOCATION:Ulrichswerkstätten Schwabmünchen\, Töpferstr. 11\, 86830 Schwab
 münchen
SUMMARY:BOOKSHOP LIVE: Cara
END:VEVENT
BEGIN:VEVENT
UID:pretix-buchhandlungschmid-birkenstock-0@pretix.eu
DTSTART;TZID=Europe/Berlin:20261202T200000
DTEND;TZID=Europe/Berlin:20261202T220000
DESCRIPTION:Tickets: https://pretix.eu/buchhandlungschmid/birkenstock/\nEin
 lass: 02.12.2026 19:30\nVeranstalter: Buchhandlung Schmid
DTSTAMP:20260424T140146Z
LOCATION:Buchhandlung Schmid\, Fuggerst. 14\, 86830 Schwabmünchen
SUMMARY:BOOKSHOP LIVE: Nadia Birkenstock - A Light So Bright -  Celtic Ha
 rp for Christmas
END:VEVENT
BEGIN:VEVENT
UID:pretix-buchhandlungschmid-pongratz26-0@pretix.eu
DTSTART;TZID=Europe/Berlin:20261210T200000
DTEND;TZID=Europe/Berlin:20261210T220000
DESCRIPTION:Tickets: https://pretix.eu/buchhandlungschmid/pongratz26/\nEinl
 ass: 10.12.2026 19:30\nVeranstalter: Buchhandlung Schmid
DTSTAMP:20260424T140146Z
LOCATION:Buchhandlung Schmid\, Fuggerst. 14\, 86830 Schwabmünchen
SUMMARY:BOOKSHOP LIVE: Maxi Pongratz - rum & num
END:VEVENT
BEGIN:VEVENT
UID:pretix-buchhandlungschmid-luettichau-26-0@pretix.eu
DTSTART;TZID=Europe/Berlin:20261217T200000
DTEND;TZID=Europe/Berlin:20261217T220000
DESCRIPTION:Tickets: https://pretix.eu/buchhandlungschmid/luettichau-26/\nE
 inlass: 17.12.2026 19:00\nVeranstalter: Buchhandlung Schmid
DTSTAMP:20260424T140146Z
LOCATION:Stadthalle Schwabmünchen\, Breitweg 20\, 86830 Schwabmünchen
SUMMARY:BOOKSHOP LIVE: Helmfried von Lüttichau - Weil’s raus muss - Das 
 zweite Programm
END:VEVENT
END:VCALENDAR
