BEGIN:VCALENDAR
VERSION:2.0
PRODID:-//pretix//pretix.eu//
BEGIN:VTIMEZONE
TZID:Europe/Berlin
BEGIN:STANDARD
DTSTART:20001029T040000
RRULE:FREQ=YEARLY;BYDAY=-1SU;BYMONTH=10
TZNAME:CET
TZOFFSETFROM:+0200
TZOFFSETTO:+0100
END:STANDARD
BEGIN:DAYLIGHT
DTSTART:20000326T030000
RRULE:FREQ=YEARLY;BYDAY=-1SU;BYMONTH=3
TZNAME:CEST
TZOFFSETFROM:+0100
TZOFFSETTO:+0200
END:DAYLIGHT
END:VTIMEZONE
BEGIN:VEVENT
UID:pretix-buchhandlungschmid-kellersteff-0@pretix.eu
DTSTART;TZID=Europe/Berlin:20241108T200000
DTEND;TZID=Europe/Berlin:20241108T220000
DESCRIPTION:Tickets: https://pretix.eu/buchhandlungschmid/kellersteff/\nEin
 lass: 08.11.2024 19:30\nVeranstalter: Buchhandlung Schmid
DTSTAMP:20260425T000410Z
LOCATION:Gemeindezentrum St. Gallus\, Pfarrgasse 3\, 86853 Langerringen
SUMMARY:BOOKSHOP LIVE: Keller Steff solo - Des schau ma uns Oh
END:VEVENT
END:VCALENDAR
