BEGIN:VCALENDAR
VERSION:2.0
PRODID:-//pretix//pretix.eu//
BEGIN:VTIMEZONE
TZID:Europe/Berlin
BEGIN:STANDARD
DTSTART:20001029T040000
RRULE:FREQ=YEARLY;BYDAY=-1SU;BYMONTH=10
TZNAME:CET
TZOFFSETFROM:+0200
TZOFFSETTO:+0100
END:STANDARD
BEGIN:DAYLIGHT
DTSTART:20000326T030000
RRULE:FREQ=YEARLY;BYDAY=-1SU;BYMONTH=3
TZNAME:CEST
TZOFFSETFROM:+0100
TZOFFSETTO:+0200
END:DAYLIGHT
END:VTIMEZONE
BEGIN:VEVENT
UID:pretix-buchhandlungschmid-mcewan-0@pretix.eu
DTSTART;TZID=Europe/Berlin:20260206T200000
DTEND;TZID=Europe/Berlin:20260206T220000
DESCRIPTION:Tickets: https://pretix.eu/buchhandlungschmid/mcewan/\nEinlass:
  06.02.2026 19:30\nVeranstalter: Buchhandlung Schmid
DTSTAMP:20260424T174105Z
LOCATION:Buchhandlung Schmid\, Fuggerst. 14\, 86830 Schwabmünchen
SUMMARY:BOOKSHOP LIVE: Gregor McEwan - Going Solo
END:VEVENT
END:VCALENDAR
