BEGIN:VCALENDAR
VERSION:2.0
PRODID:-//pretix//pretix.eu//
BEGIN:VTIMEZONE
TZID:Europe/Berlin
BEGIN:STANDARD
DTSTART:20001029T040000
RRULE:FREQ=YEARLY;BYDAY=-1SU;BYMONTH=10
TZNAME:CET
TZOFFSETFROM:+0200
TZOFFSETTO:+0100
END:STANDARD
BEGIN:DAYLIGHT
DTSTART:20000326T030000
RRULE:FREQ=YEARLY;BYDAY=-1SU;BYMONTH=3
TZNAME:CEST
TZOFFSETFROM:+0100
TZOFFSETTO:+0200
END:DAYLIGHT
END:VTIMEZONE
BEGIN:VEVENT
UID:pretix-buchhandlungschmid-raab-0@pretix.eu
DTSTART;TZID=Europe/Berlin:20231124T200000
DTEND;TZID=Europe/Berlin:20231124T220000
DESCRIPTION:Tickets: https://pretix.eu/buchhandlungschmid/raab/\nEinlass: 2
 4.11.2023 19:30\nVeranstalter: Buchhandlung Schmid
DTSTAMP:20260423T191923Z
LOCATION:Kunstverein Schwabmünchen\, Bahnhofstr. 7\, 86830 Schwabmünchen
SUMMARY:BOOKSHOP LIVE: Thomas Raab - Peter kommt später
END:VEVENT
END:VCALENDAR
