BEGIN:VCALENDAR
VERSION:2.0
PRODID:-//pretix//pretix.eu//
BEGIN:VTIMEZONE
TZID:Europe/Berlin
BEGIN:STANDARD
DTSTART:20001029T040000
RRULE:FREQ=YEARLY;BYDAY=-1SU;BYMONTH=10
TZNAME:CET
TZOFFSETFROM:+0200
TZOFFSETTO:+0100
END:STANDARD
BEGIN:DAYLIGHT
DTSTART:20000326T030000
RRULE:FREQ=YEARLY;BYDAY=-1SU;BYMONTH=3
TZNAME:CEST
TZOFFSETFROM:+0100
TZOFFSETTO:+0200
END:DAYLIGHT
END:VTIMEZONE
BEGIN:VEVENT
UID:pretix-buchhandlungschmid-schmitt25-0@pretix.eu
DTSTART;TZID=Europe/Berlin:20250426T200000
DTEND;TZID=Europe/Berlin:20250426T220000
DESCRIPTION:Tickets: https://pretix.eu/buchhandlungschmid/schmitt25/\nEinla
 ss: 26.04.2025 19:00\nVeranstalter: Buchhandlung Schmid
DTSTAMP:20260425T122519Z
LOCATION:Stadthalle Schwabmünchen\, Breitweg 20\, 86830 Schwabmünchen
SUMMARY:BOOKSHOP LIVE: Martin Schmitt - Schmitt happens
END:VEVENT
END:VCALENDAR
