BEGIN:VCALENDAR
VERSION:2.0
PRODID:-//pretix//pretix.eu//
BEGIN:VTIMEZONE
TZID:Europe/Berlin
BEGIN:STANDARD
DTSTART:20001029T040000
RRULE:FREQ=YEARLY;BYDAY=-1SU;BYMONTH=10
TZNAME:CET
TZOFFSETFROM:+0200
TZOFFSETTO:+0100
END:STANDARD
BEGIN:DAYLIGHT
DTSTART:20000326T030000
RRULE:FREQ=YEARLY;BYDAY=-1SU;BYMONTH=3
TZNAME:CEST
TZOFFSETFROM:+0100
TZOFFSETTO:+0200
END:DAYLIGHT
END:VTIMEZONE
BEGIN:VEVENT
UID:pretix-buchhandlungschmid-walthertreyz-0@pretix.eu
DTSTART;TZID=Europe/Berlin:20241012T200000
DTEND;TZID=Europe/Berlin:20241012T220000
DESCRIPTION:Tickets: https://pretix.eu/buchhandlungschmid/walthertreyz/\nEi
 nlass: 12.10.2024 19:00\nVeranstalter: Buchhandlung Schmid
DTSTAMP:20260425T000436Z
LOCATION:Ulrichswerkstätten Schwabmünchen\, Töpferstr. 11\, 86830 Schwab
 münchen
SUMMARY:BOOKSHOP LIVE: Gudrun Walther & Jürgen Treyz plus two feat. Aaron 
 Jones & Nuala Kennedy
END:VEVENT
END:VCALENDAR
