BEGIN:VCALENDAR
VERSION:2.0
PRODID:-//pretix//pretix.eu//
BEGIN:VTIMEZONE
TZID:Europe/Berlin
BEGIN:STANDARD
DTSTART:20001029T040000
RRULE:FREQ=YEARLY;BYDAY=-1SU;BYMONTH=10
TZNAME:CET
TZOFFSETFROM:+0200
TZOFFSETTO:+0100
END:STANDARD
BEGIN:DAYLIGHT
DTSTART:20000326T030000
RRULE:FREQ=YEARLY;BYDAY=-1SU;BYMONTH=3
TZNAME:CEST
TZOFFSETFROM:+0100
TZOFFSETTO:+0200
END:DAYLIGHT
END:VTIMEZONE
BEGIN:VEVENT
UID:pretix-buehne-bruck-gutschein-0@pretix.eu
DTSTART;VALUE=DATE:20261231
DTEND;VALUE=DATE:20270101
DESCRIPTION:Tickets: https://pretix.eu/buehne-bruck/gutschein/\nVeranstalte
 r: Neue Bühne Bruck e.V.
DTSTAMP:20260421T032016Z
LOCATION:Neue Bühne Bruck\, Fürstenfeld Haus 11\, 82256 Fürstenfeldbruck
SUMMARY:Geschenkgutschein
END:VEVENT
BEGIN:VEVENT
UID:pretix-buehne-bruck-DML-4821913@pretix.eu
DTSTART;TZID=Europe/Berlin:20260321T200000
DTEND;TZID=Europe/Berlin:20260321T210000
DESCRIPTION:Tickets: https://pretix.eu/buehne-bruck/DML/4821913/\nVeranstal
 ter: Neue Bühne Bruck e.V.
DTSTAMP:20260421T032016Z
LOCATION:Neue Bühne Bruck\, Fürstenfeld Haus 11\, 82256 Fürstenfeldbruck
SUMMARY:Drei Mal Leben
END:VEVENT
BEGIN:VEVENT
UID:pretix-buehne-bruck-SuV-4817672@pretix.eu
DTSTART;TZID=Europe/Berlin:20260327T200000
DTEND;TZID=Europe/Berlin:20260327T210000
DESCRIPTION:Tickets: https://pretix.eu/buehne-bruck/SuV/4817672/\nVeranstal
 ter: Neue Bühne Bruck e.V.
DTSTAMP:20260421T032016Z
LOCATION:Neue Bühne Bruck\, Fürstenfeld Haus 11\, 82256 Fürstenfeldbruck
SUMMARY:Stolz und Vorurteil* (*oder so)
END:VEVENT
BEGIN:VEVENT
UID:pretix-buehne-bruck-DML-4821918@pretix.eu
DTSTART;TZID=Europe/Berlin:20260329T190000
DTEND;TZID=Europe/Berlin:20260329T200000
DESCRIPTION:Tickets: https://pretix.eu/buehne-bruck/DML/4821918/\nVeranstal
 ter: Neue Bühne Bruck e.V.
DTSTAMP:20260421T032016Z
LOCATION:Neue Bühne Bruck\, Fürstenfeld Haus 11\, 82256 Fürstenfeldbruck
SUMMARY:Drei Mal Leben
END:VEVENT
BEGIN:VEVENT
UID:pretix-buehne-bruck-DML-4821919@pretix.eu
DTSTART;TZID=Europe/Berlin:20260411T200000
DTEND;TZID=Europe/Berlin:20260411T210000
DESCRIPTION:Tickets: https://pretix.eu/buehne-bruck/DML/4821919/\nVeranstal
 ter: Neue Bühne Bruck e.V.
DTSTAMP:20260421T032016Z
LOCATION:Neue Bühne Bruck\, Fürstenfeld Haus 11\, 82256 Fürstenfeldbruck
SUMMARY:Drei Mal Leben
END:VEVENT
BEGIN:VEVENT
UID:pretix-buehne-bruck-SuV-4817673@pretix.eu
DTSTART;TZID=Europe/Berlin:20260412T190000
DTEND;TZID=Europe/Berlin:20260412T200000
DESCRIPTION:Tickets: https://pretix.eu/buehne-bruck/SuV/4817673/\nVeranstal
 ter: Neue Bühne Bruck e.V.
DTSTAMP:20260421T032016Z
LOCATION:Neue Bühne Bruck\, Fürstenfeld Haus 11\, 82256 Fürstenfeldbruck
SUMMARY:Stolz und Vorurteil* (*oder so)
END:VEVENT
BEGIN:VEVENT
UID:pretix-buehne-bruck-SuV-4817675@pretix.eu
DTSTART;TZID=Europe/Berlin:20260417T200000
DTEND;TZID=Europe/Berlin:20260417T210000
DESCRIPTION:Tickets: https://pretix.eu/buehne-bruck/SuV/4817675/\nVeranstal
 ter: Neue Bühne Bruck e.V.
DTSTAMP:20260421T032016Z
LOCATION:Neue Bühne Bruck\, Fürstenfeld Haus 11\, 82256 Fürstenfeldbruck
SUMMARY:Stolz und Vorurteil* (*oder so)
END:VEVENT
BEGIN:VEVENT
UID:pretix-buehne-bruck-DML-4821920@pretix.eu
DTSTART;TZID=Europe/Berlin:20260418T200000
DTEND;TZID=Europe/Berlin:20260418T210000
DESCRIPTION:Tickets: https://pretix.eu/buehne-bruck/DML/4821920/\nVeranstal
 ter: Neue Bühne Bruck e.V.
DTSTAMP:20260421T032016Z
LOCATION:Neue Bühne Bruck\, Fürstenfeld Haus 11\, 82256 Fürstenfeldbruck
SUMMARY:Drei Mal Leben
END:VEVENT
BEGIN:VEVENT
UID:pretix-buehne-bruck-DML-4821921@pretix.eu
DTSTART;TZID=Europe/Berlin:20260419T190000
DTEND;TZID=Europe/Berlin:20260419T200000
DESCRIPTION:Tickets: https://pretix.eu/buehne-bruck/DML/4821921/\nVeranstal
 ter: Neue Bühne Bruck e.V.
DTSTAMP:20260421T032016Z
LOCATION:Neue Bühne Bruck\, Fürstenfeld Haus 11\, 82256 Fürstenfeldbruck
SUMMARY:Drei Mal Leben
END:VEVENT
BEGIN:VEVENT
UID:pretix-buehne-bruck-SuV-4902346@pretix.eu
DTSTART;TZID=Europe/Berlin:20260422T190000
DTEND;TZID=Europe/Berlin:20260422T200000
DESCRIPTION:Tickets: https://pretix.eu/buehne-bruck/SuV/4902346/\nVeranstal
 ter: Neue Bühne Bruck e.V.
DTSTAMP:20260421T032016Z
LOCATION:Neue Bühne Bruck\, Fürstenfeld Haus 11\, 82256 Fürstenfeldbruck
SUMMARY:Stolz und Vorurteil* (*oder so) ZUSATZVORSTELLUNG
END:VEVENT
BEGIN:VEVENT
UID:pretix-buehne-bruck-DML-4821922@pretix.eu
DTSTART;TZID=Europe/Berlin:20260424T200000
DTEND;TZID=Europe/Berlin:20260424T210000
DESCRIPTION:Tickets: https://pretix.eu/buehne-bruck/DML/4821922/\nVeranstal
 ter: Neue Bühne Bruck e.V.
DTSTAMP:20260421T032016Z
LOCATION:Neue Bühne Bruck\, Fürstenfeld Haus 11\, 82256 Fürstenfeldbruck
SUMMARY:Drei Mal Leben
END:VEVENT
BEGIN:VEVENT
UID:pretix-buehne-bruck-DML-4821923@pretix.eu
DTSTART;TZID=Europe/Berlin:20260425T200000
DTEND;TZID=Europe/Berlin:20260425T210000
DESCRIPTION:Tickets: https://pretix.eu/buehne-bruck/DML/4821923/\nVeranstal
 ter: Neue Bühne Bruck e.V.
DTSTAMP:20260421T032016Z
LOCATION:Neue Bühne Bruck\, Fürstenfeld Haus 11\, 82256 Fürstenfeldbruck
SUMMARY:Drei Mal Leben
END:VEVENT
BEGIN:VEVENT
UID:pretix-buehne-bruck-SuV-4817674@pretix.eu
DTSTART;TZID=Europe/Berlin:20260426T190000
DTEND;TZID=Europe/Berlin:20260426T200000
DESCRIPTION:Tickets: https://pretix.eu/buehne-bruck/SuV/4817674/\nVeranstal
 ter: Neue Bühne Bruck e.V.
DTSTAMP:20260421T032016Z
LOCATION:Neue Bühne Bruck\, Fürstenfeld Haus 11\, 82256 Fürstenfeldbruck
SUMMARY:Stolz und Vorurteil* (*oder so) (zum letzten Mal)
END:VEVENT
BEGIN:VEVENT
UID:pretix-buehne-bruck-DML-4821926@pretix.eu
DTSTART;TZID=Europe/Berlin:20260501T200000
DTEND;TZID=Europe/Berlin:20260501T210000
DESCRIPTION:Tickets: https://pretix.eu/buehne-bruck/DML/4821926/\nVeranstal
 ter: Neue Bühne Bruck e.V.
DTSTAMP:20260421T032016Z
LOCATION:Neue Bühne Bruck\, Fürstenfeld Haus 11\, 82256 Fürstenfeldbruck
SUMMARY:Drei Mal Leben
END:VEVENT
BEGIN:VEVENT
UID:pretix-buehne-bruck-impro-4817249@pretix.eu
DTSTART;TZID=Europe/Berlin:20260502T200000
DTEND;TZID=Europe/Berlin:20260502T210000
DESCRIPTION:Tickets: https://pretix.eu/buehne-bruck/impro/4817249/\nVeranst
 alter: Neue Bühne Bruck e.V.
DTSTAMP:20260421T032016Z
LOCATION:Neue Bühne Bruck\, Fürstenfeld Haus 11\, 82256 Fürstenfeldbruck
SUMMARY:In Impro Veritas
END:VEVENT
BEGIN:VEVENT
UID:pretix-buehne-bruck-DML-4821927@pretix.eu
DTSTART;TZID=Europe/Berlin:20260503T190000
DTEND;TZID=Europe/Berlin:20260503T200000
DESCRIPTION:Tickets: https://pretix.eu/buehne-bruck/DML/4821927/\nVeranstal
 ter: Neue Bühne Bruck e.V.
DTSTAMP:20260421T032016Z
LOCATION:Neue Bühne Bruck\, Fürstenfeld Haus 11\, 82256 Fürstenfeldbruck
SUMMARY:Drei Mal Leben (zum letzten Mal)
END:VEVENT
BEGIN:VEVENT
UID:pretix-buehne-bruck-enkel-4831492@pretix.eu
DTSTART;TZID=Europe/Berlin:20260508T200000
DTEND;TZID=Europe/Berlin:20260508T210000
DESCRIPTION:Tickets: https://pretix.eu/buehne-bruck/enkel/4831492/\nVeranst
 alter: Neue Bühne Bruck e.V.
DTSTAMP:20260421T032016Z
LOCATION:Neue Bühne Bruck\, Fürstenfeld Haus 11\, 82256 Fürstenfeldbruck
SUMMARY:Der Enkeltrick
END:VEVENT
BEGIN:VEVENT
UID:pretix-buehne-bruck-enkel-4831493@pretix.eu
DTSTART;TZID=Europe/Berlin:20260509T200000
DTEND;TZID=Europe/Berlin:20260509T210000
DESCRIPTION:Tickets: https://pretix.eu/buehne-bruck/enkel/4831493/\nVeranst
 alter: Neue Bühne Bruck e.V.
DTSTAMP:20260421T032016Z
LOCATION:Neue Bühne Bruck\, Fürstenfeld Haus 11\, 82256 Fürstenfeldbruck
SUMMARY:Der Enkeltrick
END:VEVENT
BEGIN:VEVENT
UID:pretix-buehne-bruck-enkel-4831496@pretix.eu
DTSTART;TZID=Europe/Berlin:20260510T190000
DTEND;TZID=Europe/Berlin:20260510T200000
DESCRIPTION:Tickets: https://pretix.eu/buehne-bruck/enkel/4831496/\nVeranst
 alter: Neue Bühne Bruck e.V.
DTSTAMP:20260421T032016Z
LOCATION:Neue Bühne Bruck\, Fürstenfeld Haus 11\, 82256 Fürstenfeldbruck
SUMMARY:Der Enkeltrick
END:VEVENT
BEGIN:VEVENT
UID:pretix-buehne-bruck-enkel-4831497@pretix.eu
DTSTART;TZID=Europe/Berlin:20260515T200000
DTEND;TZID=Europe/Berlin:20260515T210000
DESCRIPTION:Tickets: https://pretix.eu/buehne-bruck/enkel/4831497/\nVeranst
 alter: Neue Bühne Bruck e.V.
DTSTAMP:20260421T032016Z
LOCATION:Neue Bühne Bruck\, Fürstenfeld Haus 11\, 82256 Fürstenfeldbruck
SUMMARY:Der Enkeltrick
END:VEVENT
BEGIN:VEVENT
UID:pretix-buehne-bruck-enkel-4831498@pretix.eu
DTSTART;TZID=Europe/Berlin:20260516T200000
DTEND;TZID=Europe/Berlin:20260516T210000
DESCRIPTION:Tickets: https://pretix.eu/buehne-bruck/enkel/4831498/\nVeranst
 alter: Neue Bühne Bruck e.V.
DTSTAMP:20260421T032016Z
LOCATION:Neue Bühne Bruck\, Fürstenfeld Haus 11\, 82256 Fürstenfeldbruck
SUMMARY:Der Enkeltrick
END:VEVENT
END:VCALENDAR
