BEGIN:VCALENDAR
VERSION:2.0
PRODID:-//pretix//pretix.eu//
BEGIN:VTIMEZONE
TZID:Europe/Berlin
BEGIN:STANDARD
DTSTART:20001029T040000
RRULE:FREQ=YEARLY;BYDAY=-1SU;BYMONTH=10
TZNAME:CET
TZOFFSETFROM:+0200
TZOFFSETTO:+0100
END:STANDARD
BEGIN:DAYLIGHT
DTSTART:20000326T030000
RRULE:FREQ=YEARLY;BYDAY=-1SU;BYMONTH=3
TZNAME:CEST
TZOFFSETFROM:+0100
TZOFFSETTO:+0200
END:DAYLIGHT
END:VTIMEZONE
BEGIN:VEVENT
UID:pretix-bwstiftung-soiree-0@pretix.eu
DTSTART;TZID=Europe/Berlin:20251211T173000
DTEND;TZID=Europe/Berlin:20251211T203000
DESCRIPTION:Tickets: https://pretix.eu/bwstiftung/soiree/\nEinlass: 11.12.2
 025 17:00\nVeranstalter: Baden-Württemberg Stiftung gGmbH
DTSTAMP:20260422T070231Z
LOCATION:Karlstorbahnhof Heidelberg\, Marlene-Dietrich-Platz 3\, 69126 Heid
 elberg
SUMMARY:Gesprochen. Gespielt. Gedacht. Soirée franco-allemande
END:VEVENT
END:VCALENDAR
