BEGIN:VCALENDAR
VERSION:2.0
PRODID:-//pretix//pretix.eu//
BEGIN:VTIMEZONE
TZID:Europe/Berlin
BEGIN:STANDARD
DTSTART:20001029T040000
RRULE:FREQ=YEARLY;BYDAY=-1SU;BYMONTH=10
TZNAME:CET
TZOFFSETFROM:+0200
TZOFFSETTO:+0100
END:STANDARD
BEGIN:DAYLIGHT
DTSTART:20000326T030000
RRULE:FREQ=YEARLY;BYDAY=-1SU;BYMONTH=3
TZNAME:CEST
TZOFFSETFROM:+0100
TZOFFSETTO:+0200
END:DAYLIGHT
END:VTIMEZONE
BEGIN:VEVENT
UID:pretix-bybhnx-250921-0@pretix.eu
DTSTART;TZID=Europe/Berlin:20210925T160000
DTEND;TZID=Europe/Berlin:20210925T220000
DESCRIPTION:Tickets: https://pretix.eu/bybhnx/250921/\nEinlass: 25.09.2021 
 14:00\nVeranstalter: IT- und Business-Beratung
DTSTAMP:20260425T102125Z
LOCATION:Lichtenbergerstraße 17\, 74076 Heilbronn
SUMMARY:Backyard Boom Festival
END:VEVENT
END:VCALENDAR
