BEGIN:VCALENDAR
VERSION:2.0
PRODID:-//pretix//pretix.eu//
BEGIN:VTIMEZONE
TZID:Europe/Berlin
BEGIN:STANDARD
DTSTART:20001029T040000
RRULE:FREQ=YEARLY;BYDAY=-1SU;BYMONTH=10
TZNAME:CET
TZOFFSETFROM:+0200
TZOFFSETTO:+0100
END:STANDARD
BEGIN:DAYLIGHT
DTSTART:20000326T030000
RRULE:FREQ=YEARLY;BYDAY=-1SU;BYMONTH=3
TZNAME:CEST
TZOFFSETFROM:+0100
TZOFFSETTO:+0200
END:DAYLIGHT
END:VTIMEZONE
BEGIN:VEVENT
UID:pretix-bzlive-B25-165R-0@pretix.eu
DTSTART;TZID=Europe/Berlin:20250915T093000
DTEND;TZID=Europe/Berlin:20250915T164000
DESCRIPTION:Tickets: https://pretix.eu/bzlive/B25-165R/\nVeranstalter: WM G
 ruppe
DTSTAMP:20260424T224006Z
LOCATION:Evangelische Akademie\, Römerberg 9\, 60311 Frankfurt am Main
SUMMARY:21. Immobilientag der Börsen-Zeitung
END:VEVENT
END:VCALENDAR
