BEGIN:VCALENDAR
VERSION:2.0
PRODID:-//pretix//pretix.eu//
BEGIN:VTIMEZONE
TZID:Europe/Berlin
BEGIN:STANDARD
DTSTART:20001029T040000
RRULE:FREQ=YEARLY;BYDAY=-1SU;BYMONTH=10
TZNAME:CET
TZOFFSETFROM:+0200
TZOFFSETTO:+0100
END:STANDARD
BEGIN:DAYLIGHT
DTSTART:20000326T030000
RRULE:FREQ=YEARLY;BYDAY=-1SU;BYMONTH=3
TZNAME:CEST
TZOFFSETFROM:+0100
TZOFFSETTO:+0200
END:DAYLIGHT
END:VTIMEZONE
BEGIN:VEVENT
UID:pretix-canticum-romantisch-0@pretix.eu
DTSTART;TZID=Europe/Berlin:20250628T180000
DTEND;TZID=Europe/Berlin:20250628T190000
DESCRIPTION:Tickets: https://pretix.eu/canticum/romantisch/\nEinlass: 28.06
 .2025 17:30\nVeranstalter: canticum novum e.V.
DTSTAMP:20260423T055556Z
LOCATION:Erbdrostenhof Münster
SUMMARY:Die romantischen Vier
END:VEVENT
END:VCALENDAR
