BEGIN:VCALENDAR
VERSION:2.0
PRODID:-//pretix//pretix.eu//
BEGIN:VTIMEZONE
TZID:Europe/Berlin
BEGIN:STANDARD
DTSTART:20001029T040000
RRULE:FREQ=YEARLY;BYDAY=-1SU;BYMONTH=10
TZNAME:CET
TZOFFSETFROM:+0200
TZOFFSETTO:+0100
END:STANDARD
BEGIN:DAYLIGHT
DTSTART:20000326T030000
RRULE:FREQ=YEARLY;BYDAY=-1SU;BYMONTH=3
TZNAME:CEST
TZOFFSETFROM:+0100
TZOFFSETTO:+0200
END:DAYLIGHT
END:VTIMEZONE
BEGIN:VEVENT
UID:pretix-carousel-nevver-atticstories-apartfromus-0@pretix.eu
DTSTART;TZID=Europe/Berlin:20251114T190000
DTEND;TZID=Europe/Berlin:20251114T200000
DESCRIPTION:Tickets: https://pretix.eu/carousel/nevver-atticstories-apartfr
 omus/\nVeranstalter: Carousel e.V.
DTSTAMP:20260421T195244Z
SUMMARY:Nevver (Heidelberg) + Attic Stories (Karlsruhe) + Apart From Us (Fr
 ankfurt)
END:VEVENT
END:VCALENDAR
