BEGIN:VCALENDAR
VERSION:2.0
PRODID:-//pretix//pretix.eu//
BEGIN:VTIMEZONE
TZID:Europe/London
BEGIN:STANDARD
DTSTART:20001029T030000
RRULE:FREQ=YEARLY;BYDAY=-1SU;BYMONTH=10
TZNAME:GMT
TZOFFSETFROM:+0100
TZOFFSETTO:+0000
END:STANDARD
BEGIN:DAYLIGHT
DTSTART:20000326T020000
RRULE:FREQ=YEARLY;BYDAY=-1SU;BYMONTH=3
TZNAME:BST
TZOFFSETFROM:+0000
TZOFFSETTO:+0100
END:DAYLIGHT
END:VTIMEZONE
BEGIN:VEVENT
UID:pretix-carpentriesoffline-2026Hackathon-0@pretix.eu
DTSTART;TZID=Europe/London:20260416T090000
DTEND;TZID=Europe/London:20260417T150000
DESCRIPTION:Tickets: https://pretix.eu/carpentriesoffline/2026Hackathon/\nA
 dmission: 2026-04-16 09:00\nOrganizer: CarpentriesOffline
DTSTAMP:20260421T131518Z
LOCATION:Newcastle University\, The Catalyst\, Gorgon and Faraday Rooms\, N
 ewcastle University
SUMMARY:CarpentriesOffline miniHPC Hackathon
END:VEVENT
END:VCALENDAR
