BEGIN:VCALENDAR
VERSION:2.0
PRODID:-//pretix//pretix.eu//
BEGIN:VTIMEZONE
TZID:Europe/Berlin
BEGIN:STANDARD
DTSTART:20001029T040000
RRULE:FREQ=YEARLY;BYDAY=-1SU;BYMONTH=10
TZNAME:CET
TZOFFSETFROM:+0200
TZOFFSETTO:+0100
END:STANDARD
BEGIN:DAYLIGHT
DTSTART:20000326T030000
RRULE:FREQ=YEARLY;BYDAY=-1SU;BYMONTH=3
TZNAME:CEST
TZOFFSETFROM:+0100
TZOFFSETTO:+0200
END:DAYLIGHT
END:VTIMEZONE
BEGIN:VEVENT
UID:pretix-ccv-CSVD2026Hamburg-0@pretix.eu
DTSTART;TZID=Europe/Berlin:20260908T100000
DTEND;TZID=Europe/Berlin:20260908T220000
DESCRIPTION:Tickets: https://pretix.eu/ccv/CSVD2026Hamburg/\nVeranstalter: 
 CCV
DTSTAMP:20260426T024530Z
LOCATION:Hyperion Hotel Hamburg
SUMMARY:CSVD 2026 – 08.09. im Hyperion Hotel Hamburg
END:VEVENT
END:VCALENDAR
