BEGIN:VCALENDAR
VERSION:2.0
PRODID:-//pretix//pretix.eu//
BEGIN:VEVENT
UID:pretix-centos-showcase-2024-11-0@pretix.eu
DTSTART;VALUE=DATE:20241104
DTEND;VALUE=DATE:20241105
DESCRIPTION:Tickets: https://pretix.eu/centos/showcase-2024-11/\nOrganizer:
  CentOS
DTSTAMP:20260420T165125Z
SUMMARY:CentOS Showcase
END:VEVENT
END:VCALENDAR
