BEGIN:VCALENDAR
VERSION:2.0
PRODID:-//pretix//pretix.eu//
BEGIN:VTIMEZONE
TZID:Europe/Berlin
BEGIN:STANDARD
DTSTART:20001029T040000
RRULE:FREQ=YEARLY;BYDAY=-1SU;BYMONTH=10
TZNAME:CET
TZOFFSETFROM:+0200
TZOFFSETTO:+0100
END:STANDARD
BEGIN:DAYLIGHT
DTSTART:20000326T030000
RRULE:FREQ=YEARLY;BYDAY=-1SU;BYMONTH=3
TZNAME:CEST
TZOFFSETFROM:+0100
TZOFFSETTO:+0200
END:DAYLIGHT
END:VTIMEZONE
BEGIN:VEVENT
UID:pretix-cf-ear-0@pretix.eu
DTSTART;TZID=Europe/Berlin:20251113T093000
DTEND;TZID=Europe/Berlin:20251113T210000
DESCRIPTION:Tickets: https://pretix.eu/cf/ear/\nEinlass: 13.11.2025 08:30\n
 Veranstalter: stiftung elektro-altgeräte register
DTSTAMP:20260424T061740Z
LOCATION:KINDL – Zentrum für zeitgenössische Kunst\, Berlin
SUMMARY:20 Jahre stiftung ear: Zukunft. Verantwortung. Innovation.
END:VEVENT
END:VCALENDAR
