BEGIN:VCALENDAR
VERSION:2.0
PRODID:-//pretix//pretix.eu//
BEGIN:VTIMEZONE
TZID:Europe/Berlin
BEGIN:STANDARD
DTSTART:20001029T040000
RRULE:FREQ=YEARLY;BYDAY=-1SU;BYMONTH=10
TZNAME:CET
TZOFFSETFROM:+0200
TZOFFSETTO:+0100
END:STANDARD
BEGIN:DAYLIGHT
DTSTART:20000326T030000
RRULE:FREQ=YEARLY;BYDAY=-1SU;BYMONTH=3
TZNAME:CEST
TZOFFSETFROM:+0100
TZOFFSETTO:+0200
END:DAYLIGHT
END:VTIMEZONE
BEGIN:VEVENT
UID:pretix-cfr-Infounderviser-0@pretix.eu
DTSTART;TZID=Europe/Berlin:20230908T143000
DTEND;TZID=Europe/Berlin:20230908T153000
DESCRIPTION:Billetter: https://pretix.eu/cfr/Infounderviser/\nDørene åbne
 s: 08.09.2023 14:15\nOrganizer: Center for Forebyggelse og Rehabilitering 
 - Aarhus Kommune
DTSTAMP:20260424T072302Z
LOCATION:Nørre Alle 31\, 8000 Århus C
SUMMARY:Infomøde stilling som underviser
END:VEVENT
END:VCALENDAR
