BEGIN:VCALENDAR
VERSION:2.0
PRODID:-//pretix//pretix.eu//
BEGIN:VTIMEZONE
TZID:Europe/Berlin
BEGIN:STANDARD
DTSTART:20001029T040000
RRULE:FREQ=YEARLY;BYDAY=-1SU;BYMONTH=10
TZNAME:CET
TZOFFSETFROM:+0200
TZOFFSETTO:+0100
END:STANDARD
BEGIN:DAYLIGHT
DTSTART:20000326T030000
RRULE:FREQ=YEARLY;BYDAY=-1SU;BYMONTH=3
TZNAME:CEST
TZOFFSETFROM:+0100
TZOFFSETTO:+0200
END:DAYLIGHT
END:VTIMEZONE
BEGIN:VEVENT
UID:pretix-christuskirche-25vox1-0@pretix.eu
DTSTART;TZID=Europe/Berlin:20250427T180000
DTEND;TZID=Europe/Berlin:20250427T190000
DESCRIPTION:Tickets: https://pretix.eu/christuskirche/25vox1/\nVeranstalter
 : Kantorat an der Christuskirche Mannheim
DTSTAMP:20260422T191159Z
LOCATION:Christuskirche Mannheim
SUMMARY:Loewe: Palestrina / Mendelssohn: Die erste Walpurgisnacht
END:VEVENT
END:VCALENDAR
