BEGIN:VCALENDAR
VERSION:2.0
PRODID:-//pretix//pretix.eu//
BEGIN:VTIMEZONE
TZID:Europe/Berlin
BEGIN:STANDARD
DTSTART:20001029T040000
RRULE:FREQ=YEARLY;BYDAY=-1SU;BYMONTH=10
TZNAME:CET
TZOFFSETFROM:+0200
TZOFFSETTO:+0100
END:STANDARD
BEGIN:DAYLIGHT
DTSTART:20000326T030000
RRULE:FREQ=YEARLY;BYDAY=-1SU;BYMONTH=3
TZNAME:CEST
TZOFFSETFROM:+0100
TZOFFSETTO:+0200
END:DAYLIGHT
END:VTIMEZONE
BEGIN:VEVENT
UID:pretix-cim-imprs-gsm-2025-0@pretix.eu
DTSTART;TZID=Europe/Berlin:20251008T124500
DTEND;TZID=Europe/Berlin:20251010T160000
DESCRIPTION:Tickets: https://pretix.eu/cim-imprs-gsm/2025/\nOrganizer: CiM-
 IMPRS Graduate School
DTSTAMP:20260423T113815Z
LOCATION:Max Planck Institute for Molecular Biomedicine\, Röntgenstraße 2
 0\, 48149 Münster\, Germany
SUMMARY:19th Annual CiM-IMPRS Graduate School Meeting
END:VEVENT
END:VCALENDAR
