BEGIN:VCALENDAR
VERSION:2.0
PRODID:-//pretix//pretix.eu//
BEGIN:VTIMEZONE
TZID:Europe/Berlin
BEGIN:STANDARD
DTSTART:20001029T040000
RRULE:FREQ=YEARLY;BYDAY=-1SU;BYMONTH=10
TZNAME:CET
TZOFFSETFROM:+0200
TZOFFSETTO:+0100
END:STANDARD
BEGIN:DAYLIGHT
DTSTART:20000326T030000
RRULE:FREQ=YEARLY;BYDAY=-1SU;BYMONTH=3
TZNAME:CEST
TZOFFSETFROM:+0100
TZOFFSETTO:+0200
END:DAYLIGHT
END:VTIMEZONE
BEGIN:VEVENT
UID:pretix-cinemaritcs-signore-0@pretix.eu
DTSTART;TZID=Europe/Berlin:20260430T203000
DTEND;TZID=Europe/Berlin:20260430T213000
DESCRIPTION:Tickets: https://pretix.eu/cinemaritcs/signore/\nOrganizer: CIN
 EMA RITCS
DTSTAMP:20260422T162344Z
LOCATION:Cinema RITCS
SUMMARY:Signore e signori (1966) – Pietro Germi
END:VEVENT
END:VCALENDAR
