BEGIN:VCALENDAR
VERSION:2.0
PRODID:-//pretix//pretix.eu//
BEGIN:VTIMEZONE
TZID:Europe/Berlin
BEGIN:STANDARD
DTSTART:20001029T040000
RRULE:FREQ=YEARLY;BYDAY=-1SU;BYMONTH=10
TZNAME:CET
TZOFFSETFROM:+0200
TZOFFSETTO:+0100
END:STANDARD
BEGIN:DAYLIGHT
DTSTART:20000326T030000
RRULE:FREQ=YEARLY;BYDAY=-1SU;BYMONTH=3
TZNAME:CEST
TZOFFSETFROM:+0100
TZOFFSETTO:+0200
END:DAYLIGHT
END:VTIMEZONE
BEGIN:VEVENT
UID:pretix-classicalnext-MSErtolahti1-0@pretix.eu
DTSTART;TZID=Europe/Berlin:20250513T101500
DTEND;TZID=Europe/Berlin:20250513T110000
DESCRIPTION:Tickets: https://pretix.eu/classicalnext/MSErtolahti1/\nAdmissi
 on: 2025-05-13 10:00\nOrganizer: Classical:NEXT
DTSTAMP:20260419T185134Z
LOCATION:Colosseum\, Berlin - Luna Bar
SUMMARY:Roundtable Mentoring Session: Susanna Ertolahti-Mertanen - AI and I
 nnovative Pedagogical Approaches in Music Education
END:VEVENT
END:VCALENDAR
