BEGIN:VCALENDAR
VERSION:2.0
PRODID:-//pretix//pretix.eu//
BEGIN:VTIMEZONE
TZID:Europe/Berlin
BEGIN:STANDARD
DTSTART:20001029T040000
RRULE:FREQ=YEARLY;BYDAY=-1SU;BYMONTH=10
TZNAME:CET
TZOFFSETFROM:+0200
TZOFFSETTO:+0100
END:STANDARD
BEGIN:DAYLIGHT
DTSTART:20000326T030000
RRULE:FREQ=YEARLY;BYDAY=-1SU;BYMONTH=3
TZNAME:CEST
TZOFFSETFROM:+0100
TZOFFSETTO:+0200
END:DAYLIGHT
END:VTIMEZONE
BEGIN:VEVENT
UID:pretix-clpmarketing-2022-ESS-3662077@pretix.eu
DTSTART;TZID=Europe/Berlin:20221209T193000
DTEND;TZID=Europe/Berlin:20221209T203000
DESCRIPTION:Tickets: https://pretix.eu/clpmarketing/2022-ESS/3662077/\nVera
 nstalter: CM Cloppenburg Marketing GmbH
DTSTAMP:20260425T232344Z
SUMMARY:Eisstockschießen 2022
END:VEVENT
END:VCALENDAR
