BEGIN:VCALENDAR
VERSION:2.0
PRODID:-//pretix//pretix.eu//
BEGIN:VTIMEZONE
TZID:Europe/Berlin
BEGIN:STANDARD
DTSTART:20001029T040000
RRULE:FREQ=YEARLY;BYDAY=-1SU;BYMONTH=10
TZNAME:CET
TZOFFSETFROM:+0200
TZOFFSETTO:+0100
END:STANDARD
BEGIN:DAYLIGHT
DTSTART:20000326T030000
RRULE:FREQ=YEARLY;BYDAY=-1SU;BYMONTH=3
TZNAME:CEST
TZOFFSETFROM:+0100
TZOFFSETTO:+0200
END:DAYLIGHT
END:VTIMEZONE
BEGIN:VEVENT
UID:pretix-co-mensch-2024-10-07ekel-0@pretix.eu
DTSTART;TZID=Europe/Berlin:20241007T090000
DTEND;TZID=Europe/Berlin:20241007T160000
DESCRIPTION:Tickets: https://pretix.eu/co-mensch/2024-10-07ekel/\nVeranstal
 ter: Cooperative Mensch eG
DTSTAMP:20260425T000605Z
LOCATION:Cooperative Mensch eG\, Gubener Str. 49\, Hinterhaus 3. OG\, 10243
  Berlin\, Deutschland
SUMMARY:2024/10/07 Strategien zum Umgang mit Ekel und Scham in der Pflege
END:VEVENT
END:VCALENDAR
