BEGIN:VCALENDAR
VERSION:2.0
PRODID:-//pretix//pretix.eu//
BEGIN:VTIMEZONE
TZID:Europe/Berlin
BEGIN:STANDARD
DTSTART:20001029T040000
RRULE:FREQ=YEARLY;BYDAY=-1SU;BYMONTH=10
TZNAME:CET
TZOFFSETFROM:+0200
TZOFFSETTO:+0100
END:STANDARD
BEGIN:DAYLIGHT
DTSTART:20000326T030000
RRULE:FREQ=YEARLY;BYDAY=-1SU;BYMONTH=3
TZNAME:CEST
TZOFFSETFROM:+0100
TZOFFSETTO:+0200
END:DAYLIGHT
END:VTIMEZONE
BEGIN:VEVENT
UID:pretix-cod3cas3-escape-dinner-4909088@pretix.eu
DTSTART;TZID=Europe/Berlin:20261003T180000
DTEND;TZID=Europe/Berlin:20261003T220000
DESCRIPTION:Tickets: https://pretix.eu/cod3cas3/escape-dinner/4909088/\nEin
 lass: 03.10.2026 18:00\nVeranstalter: Code Case
DTSTAMP:20260419T122837Z
LOCATION:Heidenauer Hotel & Gastronomie\, Hauptstraße 23\, 21258 Heidenau\
 , Deutschland
SUMMARY:21258 Heidenau | Heidenauer Hotel & Gastronomie
END:VEVENT
END:VCALENDAR
