BEGIN:VCALENDAR
VERSION:2.0
PRODID:-//pretix//pretix.eu//
BEGIN:VTIMEZONE
TZID:Europe/Berlin
BEGIN:STANDARD
DTSTART:20001029T040000
RRULE:FREQ=YEARLY;BYDAY=-1SU;BYMONTH=10
TZNAME:CET
TZOFFSETFROM:+0200
TZOFFSETTO:+0100
END:STANDARD
BEGIN:DAYLIGHT
DTSTART:20000326T030000
RRULE:FREQ=YEARLY;BYDAY=-1SU;BYMONTH=3
TZNAME:CEST
TZOFFSETFROM:+0100
TZOFFSETTO:+0200
END:DAYLIGHT
END:VTIMEZONE
BEGIN:VEVENT
UID:pretix-cod3cas3-escape-dinner-4921384@pretix.eu
DTSTART;TZID=Europe/Berlin:20261211T180000
DTEND;TZID=Europe/Berlin:20261211T220000
DESCRIPTION:Tickets: https://pretix.eu/cod3cas3/escape-dinner/4921384/\nEin
 lass: 11.12.2026 18:00\nVeranstalter: Code Case
DTSTAMP:20260419T122835Z
LOCATION:Hotel Freizeit In GmbH\, Dransfelder Str. 3\, 37079 Göttingen
SUMMARY:37079 Göttingen | Hotel Freizeit In GmbH
END:VEVENT
END:VCALENDAR
