BEGIN:VCALENDAR
VERSION:2.0
PRODID:-//pretix//pretix.eu//
BEGIN:VTIMEZONE
TZID:Europe/Berlin
BEGIN:STANDARD
DTSTART:20001029T040000
RRULE:FREQ=YEARLY;BYDAY=-1SU;BYMONTH=10
TZNAME:CET
TZOFFSETFROM:+0200
TZOFFSETTO:+0100
END:STANDARD
BEGIN:DAYLIGHT
DTSTART:20000326T030000
RRULE:FREQ=YEARLY;BYDAY=-1SU;BYMONTH=3
TZNAME:CEST
TZOFFSETFROM:+0100
TZOFFSETTO:+0200
END:DAYLIGHT
END:VTIMEZONE
BEGIN:VEVENT
UID:pretix-cod3cas3-escape-dinner-4921454@pretix.eu
DTSTART;TZID=Europe/Berlin:20270206T180000
DTEND;TZID=Europe/Berlin:20270206T220000
DESCRIPTION:Tickets: https://pretix.eu/cod3cas3/escape-dinner/4921454/\nEin
 lass: 06.02.2027 18:00\nVeranstalter: Code Case
DTSTAMP:20260420T060509Z
LOCATION:Hambacher Schloss\, Hambacher Schloss 1832\, 67434 Neustadt a d. W
 einstraße\, Deutschland
SUMMARY:67434 Neustadt a. d. Weinstraße | Hambacher Schloss
END:VEVENT
END:VCALENDAR
