BEGIN:VCALENDAR
VERSION:2.0
PRODID:-//pretix//pretix.eu//
BEGIN:VTIMEZONE
TZID:Europe/Berlin
BEGIN:STANDARD
DTSTART:20001029T040000
RRULE:FREQ=YEARLY;BYDAY=-1SU;BYMONTH=10
TZNAME:CET
TZOFFSETFROM:+0200
TZOFFSETTO:+0100
END:STANDARD
BEGIN:DAYLIGHT
DTSTART:20000326T030000
RRULE:FREQ=YEARLY;BYDAY=-1SU;BYMONTH=3
TZNAME:CEST
TZOFFSETFROM:+0100
TZOFFSETTO:+0200
END:DAYLIGHT
END:VTIMEZONE
BEGIN:VEVENT
UID:pretix-cogneon-edmod26b-0@pretix.eu
DTSTART;TZID=Europe/Berlin:20261118T100000
DTEND;TZID=Europe/Berlin:20261119T160000
DESCRIPTION:Tickets: https://pretix.eu/cogneon/edmod26b/\nVeranstalter: Cog
 neon GmbH
DTSTAMP:20260421T054142Z
LOCATION:Cogneon Akademie und Online (Microsoft Teams)
SUMMARY:Expert Debriefing Praxis-Ausbildung Herbst 2026 (edmod26b)
END:VEVENT
END:VCALENDAR
