BEGIN:VCALENDAR
VERSION:2.0
PRODID:-//pretix//pretix.eu//
BEGIN:VTIMEZONE
TZID:Europe/Berlin
BEGIN:STANDARD
DTSTART:20001029T040000
RRULE:FREQ=YEARLY;BYDAY=-1SU;BYMONTH=10
TZNAME:CET
TZOFFSETFROM:+0200
TZOFFSETTO:+0100
END:STANDARD
BEGIN:DAYLIGHT
DTSTART:20000326T030000
RRULE:FREQ=YEARLY;BYDAY=-1SU;BYMONTH=3
TZNAME:CEST
TZOFFSETFROM:+0100
TZOFFSETTO:+0200
END:DAYLIGHT
END:VTIMEZONE
BEGIN:VEVENT
UID:pretix-cogneon-pke24-0@pretix.eu
DTSTART;TZID=Europe/Berlin:20241021T130000
DTEND;TZID=Europe/Berlin:20241129T120000
DESCRIPTION:Tickets: https://pretix.eu/cogneon/pke24/\nVeranstalter: Cogneo
 n GmbH
DTSTAMP:20260421T221947Z
LOCATION:Online mit MS Teams und exklusivem Community-Bereich auf CONNECT
SUMMARY:Lernreise Personal Knowledge Excellence (pke24)
END:VEVENT
END:VCALENDAR
