BEGIN:VCALENDAR
VERSION:2.0
PRODID:-//pretix//pretix.eu//
BEGIN:VEVENT
UID:pretix-congres-adullact-2026-inscriptions-0@pretix.eu
DTSTART;VALUE=DATE:20260604
DTEND;VALUE=DATE:20260606
DESCRIPTION:Tickets : https://pretix.eu/congres-adullact-2026/inscriptions
 /\nOrganisateur : ADULLACT
DTSTAMP:20260419T153037Z
LOCATION:Salle du Conseil\, Montpellier Méditerranée Métropole\, 50 plac
 e Zeus 34000 MONTPELLIER
SUMMARY:Congrès ADULLACT 2026
END:VEVENT
END:VCALENDAR
