BEGIN:VCALENDAR
VERSION:2.0
PRODID:-//pretix//pretix.eu//
BEGIN:VTIMEZONE
TZID:Europe/Berlin
BEGIN:STANDARD
DTSTART:20001029T040000
RRULE:FREQ=YEARLY;BYDAY=-1SU;BYMONTH=10
TZNAME:CET
TZOFFSETFROM:+0200
TZOFFSETTO:+0100
END:STANDARD
BEGIN:DAYLIGHT
DTSTART:20000326T030000
RRULE:FREQ=YEARLY;BYDAY=-1SU;BYMONTH=3
TZNAME:CEST
TZOFFSETFROM:+0100
TZOFFSETTO:+0200
END:DAYLIGHT
END:VTIMEZONE
BEGIN:VEVENT
UID:pretix-consance.events-malleandersieg-0@pretix.eu
DTSTART;TZID=Europe/Berlin:20251017T200000
DTEND;TZID=Europe/Berlin:20251018T040000
DESCRIPTION:Tickets: https://pretix.eu/consance.events/malleandersieg/\nEin
 lass: 17.10.2025 20:00\nVeranstalter: consance events
DTSTAMP:20260422T093155Z
LOCATION:Kabelmetal Schladern
SUMMARY:Malle an der Sieg
END:VEVENT
END:VCALENDAR
