BEGIN:VCALENDAR
VERSION:2.0
PRODID:-//pretix//pretix.eu//
BEGIN:VTIMEZONE
TZID:Europe/Berlin
BEGIN:STANDARD
DTSTART:20001029T040000
RRULE:FREQ=YEARLY;BYDAY=-1SU;BYMONTH=10
TZNAME:CET
TZOFFSETFROM:+0200
TZOFFSETTO:+0100
END:STANDARD
BEGIN:DAYLIGHT
DTSTART:20000326T030000
RRULE:FREQ=YEARLY;BYDAY=-1SU;BYMONTH=3
TZNAME:CEST
TZOFFSETFROM:+0100
TZOFFSETTO:+0200
END:DAYLIGHT
END:VTIMEZONE
BEGIN:VEVENT
UID:pretix-coreact-mafianeindanke-0@pretix.eu
DTSTART;TZID=Europe/Berlin:20191115T163000
DTEND;TZID=Europe/Berlin:20191116T180000
DESCRIPTION:Tickets: https://pretix.eu/coreact/mafianeindanke/\nOrganizer: 
 Mafianeindanke
DTSTAMP:20260422T020140Z
LOCATION:bUm Raum für die engagierte Zivilgesellschaft\, Paul-Linke-Ufer 2
 1\, 10999 Berlin-Kreuzberg
SUMMARY:COREACT
END:VEVENT
END:VCALENDAR
