BEGIN:VCALENDAR
VERSION:2.0
PRODID:-//pretix//pretix.eu//
BEGIN:VTIMEZONE
TZID:Europe/Berlin
BEGIN:STANDARD
DTSTART:20001029T040000
RRULE:FREQ=YEARLY;BYDAY=-1SU;BYMONTH=10
TZNAME:CET
TZOFFSETFROM:+0200
TZOFFSETTO:+0100
END:STANDARD
BEGIN:DAYLIGHT
DTSTART:20000326T030000
RRULE:FREQ=YEARLY;BYDAY=-1SU;BYMONTH=3
TZNAME:CEST
TZOFFSETFROM:+0100
TZOFFSETTO:+0200
END:DAYLIGHT
END:VTIMEZONE
BEGIN:VEVENT
UID:pretix-correlaid-deepdive-umfragen-4901068@pretix.eu
DTSTART;TZID=Europe/Berlin:20260513T090000
DTEND;TZID=Europe/Berlin:20260513T153000
DESCRIPTION:Tickets: https://pretix.eu/correlaid/deepdive-umfragen/4901068/
 \nVeranstalter: CorrelAid e.V.
DTSTAMP:20260425T183528Z
LOCATION:Online/Remote
SUMMARY:CorrelLAB-Deep-Dive: Umfragen richtig konzipieren und durchführen
END:VEVENT
END:VCALENDAR
