BEGIN:VCALENDAR
VERSION:2.0
PRODID:-//pretix//pretix.eu//
BEGIN:VTIMEZONE
TZID:Europe/Berlin
BEGIN:STANDARD
DTSTART:20001029T040000
RRULE:FREQ=YEARLY;BYDAY=-1SU;BYMONTH=10
TZNAME:CET
TZOFFSETFROM:+0200
TZOFFSETTO:+0100
END:STANDARD
BEGIN:DAYLIGHT
DTSTART:20000326T030000
RRULE:FREQ=YEARLY;BYDAY=-1SU;BYMONTH=3
TZNAME:CEST
TZOFFSETFROM:+0100
TZOFFSETTO:+0200
END:DAYLIGHT
END:VTIMEZONE
BEGIN:VEVENT
UID:pretix-correlaid-excel-verein-0@pretix.eu
DTSTART;TZID=Europe/Berlin:20260512T130000
DTEND;TZID=Europe/Berlin:20260512T140000
DESCRIPTION:Tickets: https://pretix.eu/correlaid/excel-verein/\nVeranstalte
 r: CorrelAid e.V.
DTSTAMP:20260424T114916Z
LOCATION:online
SUMMARY:CorrelCompact | Tabellen ohne Kopfzerbrechen: Excel in der Vereinsp
 raxis (online / de)
END:VEVENT
END:VCALENDAR
