BEGIN:VCALENDAR
VERSION:2.0
PRODID:-//pretix//pretix.eu//
BEGIN:VTIMEZONE
TZID:Europe/Berlin
BEGIN:STANDARD
DTSTART:20001029T040000
RRULE:FREQ=YEARLY;BYDAY=-1SU;BYMONTH=10
TZNAME:CET
TZOFFSETFROM:+0200
TZOFFSETTO:+0100
END:STANDARD
BEGIN:DAYLIGHT
DTSTART:20000326T030000
RRULE:FREQ=YEARLY;BYDAY=-1SU;BYMONTH=3
TZNAME:CEST
TZOFFSETFROM:+0100
TZOFFSETTO:+0200
END:DAYLIGHT
END:VTIMEZONE
BEGIN:VEVENT
UID:pretix-craftingproducts-lightningtalks25-0@pretix.eu
DTSTART;TZID=Europe/Berlin:20251127T183000
DTEND;TZID=Europe/Berlin:20251127T220000
DESCRIPTION:Tickets: https://pretix.eu/craftingproducts/lightningtalks25/\n
 Einlass: 27.11.2025 18:00\nVeranstalter: cosee GmbH
DTSTAMP:20260420T015041Z
LOCATION:Mina-Rees-Str. 8\, 64295 Darmstadt
SUMMARY:Lightning Talks 2025
END:VEVENT
END:VCALENDAR
