BEGIN:VCALENDAR
VERSION:2.0
PRODID:-//pretix//pretix.eu//
BEGIN:VTIMEZONE
TZID:Europe/Berlin
BEGIN:STANDARD
DTSTART:20001029T040000
RRULE:FREQ=YEARLY;BYDAY=-1SU;BYMONTH=10
TZNAME:CET
TZOFFSETFROM:+0200
TZOFFSETTO:+0100
END:STANDARD
BEGIN:DAYLIGHT
DTSTART:20000326T030000
RRULE:FREQ=YEARLY;BYDAY=-1SU;BYMONTH=3
TZNAME:CEST
TZOFFSETFROM:+0100
TZOFFSETTO:+0200
END:DAYLIGHT
END:VTIMEZONE
BEGIN:VEVENT
UID:pretix-credowestfalen-st-2025-0@pretix.eu
DTSTART;TZID=Europe/Berlin:20250324T100000
DTEND;TZID=Europe/Berlin:20250324T160000
DESCRIPTION:Tickets: https://pretix.eu/credowestfalen/st-2025/\nEinlass: 24
 .03.2025 10:00\nVeranstalter: CREDO Westfalen
DTSTAMP:20260419T124945Z
LOCATION:Kirchengemeinde Halle\, Martin-Luther-Straße 5\, 33790 Halle (Wes
 tf.)
SUMMARY:CREDO-Studientag mit Tobias Schöll (Christus-Treff Berlin)
END:VEVENT
END:VCALENDAR
