BEGIN:VCALENDAR
VERSION:2.0
PRODID:-//pretix//pretix.eu//
BEGIN:VEVENT
UID:pretix-czb-ankommen-3200383@pretix.eu
DTSTART;VALUE=DATE:20220428
DTEND;VALUE=DATE:20220429
DESCRIPTION:Tickets: https://pretix.eu/czb/ankommen/3200383/\nVeranstalter:
  Christliches Zentrum Bielefeld
DTSTAMP:20260423T062105Z
LOCATION:Christliches Zentrum Bielefeld e.V.\, Gustav-Winkler Str. 48\, 336
 99 Bielefeld
SUMMARY:Anmeldung 6 Termine
END:VEVENT
END:VCALENDAR
