BEGIN:VCALENDAR
VERSION:2.0
PRODID:-//pretix//pretix.eu//
BEGIN:VEVENT
UID:pretix-czb-ankommen-3373795@pretix.eu
DTSTART;VALUE=DATE:20221020
DTEND;VALUE=DATE:20221021
DESCRIPTION:Tickets: https://pretix.eu/czb/ankommen/3373795/\nVeranstalter:
  Christliches Zentrum Bielefeld
DTSTAMP:20260422T123255Z
LOCATION:Christliches Zentrum Bielefeld e.V.\, Gustav-Winkler Str. 48\, 336
 99 Bielefeld
SUMMARY:Anmeldung 6 Termine Herbst 22
END:VEVENT
END:VCALENDAR
