BEGIN:VCALENDAR
VERSION:2.0
PRODID:-//pretix//pretix.eu//
BEGIN:VEVENT
UID:pretix-czb-ankommen-3799905@pretix.eu
DTSTART;VALUE=DATE:20230420
DTEND;VALUE=DATE:20230421
DESCRIPTION:Tickets: https://pretix.eu/czb/ankommen/3799905/\nVeranstalter:
  Christliches Zentrum Bielefeld
DTSTAMP:20260421T080837Z
LOCATION:Christliches Zentrum Bielefeld e.V.\, Gustav-Winkler Str. 48\, 336
 99 Bielefeld
SUMMARY:Anmeldung 6 Termine Frühjahr 23
END:VEVENT
END:VCALENDAR
