BEGIN:VCALENDAR
VERSION:2.0
PRODID:-//pretix//pretix.eu//
BEGIN:VEVENT
UID:pretix-czb-ankommen-3939343@pretix.eu
DTSTART;VALUE=DATE:20231019
DTEND;VALUE=DATE:20231020
DESCRIPTION:Tickets: https://pretix.eu/czb/ankommen/3939343/\nVeranstalter:
  Christliches Zentrum Bielefeld
DTSTAMP:20260420T025646Z
LOCATION:Christliches Zentrum Bielefeld e.V.\, Gustav-Winkler Str. 48\, 336
 99 Bielefeld
SUMMARY:Anmeldung 6 Termine Herbst 23
END:VEVENT
END:VCALENDAR
