BEGIN:VCALENDAR
VERSION:2.0
PRODID:-//pretix//pretix.eu//
BEGIN:VTIMEZONE
TZID:Europe/Berlin
BEGIN:STANDARD
DTSTART:20001029T040000
RRULE:FREQ=YEARLY;BYDAY=-1SU;BYMONTH=10
TZNAME:CET
TZOFFSETFROM:+0200
TZOFFSETTO:+0100
END:STANDARD
BEGIN:DAYLIGHT
DTSTART:20000326T030000
RRULE:FREQ=YEARLY;BYDAY=-1SU;BYMONTH=3
TZNAME:CEST
TZOFFSETFROM:+0100
TZOFFSETTO:+0200
END:DAYLIGHT
END:VTIMEZONE
BEGIN:VEVENT
UID:pretix-d3-feierabend-lab-4910148@pretix.eu
DTSTART;TZID=Europe/Berlin:20260827T180000
DTEND;TZID=Europe/Berlin:20260827T193000
DESCRIPTION:Tickets: https://pretix.eu/d3/feierabend-lab/4910148/\nVeransta
 lter: D3 - so geht digital
DTSTAMP:20260419T122834Z
LOCATION:Berlin\, genaue Location wird noch bekannt gegeben.
SUMMARY:KI Feierabend Lab: Vom KI-Spielkasten zur Toolbox (tbc)
END:VEVENT
END:VCALENDAR
