BEGIN:VCALENDAR
VERSION:2.0
PRODID:-//pretix//pretix.eu//
BEGIN:VTIMEZONE
TZID:Europe/Berlin
BEGIN:STANDARD
DTSTART:20001029T040000
RRULE:FREQ=YEARLY;BYDAY=-1SU;BYMONTH=10
TZNAME:CET
TZOFFSETFROM:+0200
TZOFFSETTO:+0100
END:STANDARD
BEGIN:DAYLIGHT
DTSTART:20000326T030000
RRULE:FREQ=YEARLY;BYDAY=-1SU;BYMONTH=3
TZNAME:CEST
TZOFFSETFROM:+0100
TZOFFSETTO:+0200
END:DAYLIGHT
END:VTIMEZONE
BEGIN:VEVENT
UID:pretix-d3-ki-webinare-4910142@pretix.eu
DTSTART;TZID=Europe/Berlin:20261014T123000
DTEND;TZID=Europe/Berlin:20261014T140000
DESCRIPTION:Tickets: https://pretix.eu/d3/ki-webinare/4910142/\nVeranstalte
 r: D3 - so geht digital
DTSTAMP:20260419T122832Z
LOCATION:Online
SUMMARY:Texte\, Bilder\, Analyse: Wie ihr mit KI mehr auf Social Media erre
 icht (tbc)
END:VEVENT
END:VCALENDAR
