BEGIN:VCALENDAR
VERSION:2.0
PRODID:-//pretix//pretix.eu//
BEGIN:VTIMEZONE
TZID:Europe/Berlin
BEGIN:STANDARD
DTSTART:20001029T040000
RRULE:FREQ=YEARLY;BYDAY=-1SU;BYMONTH=10
TZNAME:CET
TZOFFSETFROM:+0200
TZOFFSETTO:+0100
END:STANDARD
BEGIN:DAYLIGHT
DTSTART:20000326T030000
RRULE:FREQ=YEARLY;BYDAY=-1SU;BYMONTH=3
TZNAME:CEST
TZOFFSETFROM:+0100
TZOFFSETTO:+0200
END:DAYLIGHT
END:VTIMEZONE
BEGIN:VEVENT
UID:pretix-d3-meetup-hh-0@pretix.eu
DTSTART;TZID=Europe/Berlin:20210413T140000
DTEND;TZID=Europe/Berlin:20210413T153000
DESCRIPTION:Tickets: https://pretix.eu/d3/meetup-hh/\nVeranstalter: D3 - so
  geht digital
DTSTAMP:20260423T160622Z
LOCATION:Online
SUMMARY:D3 Meet-up Hamburg
END:VEVENT
END:VCALENDAR
