BEGIN:VCALENDAR
VERSION:2.0
PRODID:-//pretix//pretix.eu//
BEGIN:VTIMEZONE
TZID:Europe/Berlin
BEGIN:STANDARD
DTSTART:20001029T040000
RRULE:FREQ=YEARLY;BYDAY=-1SU;BYMONTH=10
TZNAME:CET
TZOFFSETFROM:+0200
TZOFFSETTO:+0100
END:STANDARD
BEGIN:DAYLIGHT
DTSTART:20000326T030000
RRULE:FREQ=YEARLY;BYDAY=-1SU;BYMONTH=3
TZNAME:CEST
TZOFFSETFROM:+0100
TZOFFSETTO:+0200
END:DAYLIGHT
END:VTIMEZONE
BEGIN:VEVENT
UID:pretix-dabb-assistent-0@pretix.eu
DTSTART;TZID=Europe/Berlin:20260519T130000
DTEND;TZID=Europe/Berlin:20260519T140000
DESCRIPTION:Tickets: https://pretix.eu/dabb/assistent/\nVeranstalter: Digit
 alAgentur Brandenburg GmbH
DTSTAMP:20260425T005546Z
LOCATION:Online-Veranstaltung
SUMMARY:#DABB-Info-Café: LLMoin - Eine KI für die Verwaltung in Brandenbu
 rg
END:VEVENT
END:VCALENDAR
