BEGIN:VCALENDAR
VERSION:2.0
PRODID:-//pretix//pretix.eu//
BEGIN:VTIMEZONE
TZID:Europe/Berlin
BEGIN:STANDARD
DTSTART:20001029T040000
RRULE:FREQ=YEARLY;BYDAY=-1SU;BYMONTH=10
TZNAME:CET
TZOFFSETFROM:+0200
TZOFFSETTO:+0100
END:STANDARD
BEGIN:DAYLIGHT
DTSTART:20000326T030000
RRULE:FREQ=YEARLY;BYDAY=-1SU;BYMONTH=3
TZNAME:CEST
TZOFFSETFROM:+0100
TZOFFSETTO:+0200
END:DAYLIGHT
END:VTIMEZONE
BEGIN:VEVENT
UID:pretix-dabb-fachtagung-2-0@pretix.eu
DTSTART;TZID=Europe/Berlin:20211008T093000
DTEND;TZID=Europe/Berlin:20211008T143000
DESCRIPTION:Tickets: https://pretix.eu/dabb/fachtagung-2/\nVeranstalter: Di
 gitalAgentur Brandenburg GmbH
DTSTAMP:20260423T214400Z
LOCATION:IHK Ostbrandenburg\, Puschkinstraße 12 b\, 15236 Frankfurt (Oder)
 \, Präsenz - Veranstaltung mit paralleler Möglichkeit einer Online-Teiln
 ahme (Streaming)
SUMMARY:Fachtagung InnoVET 2021. Tag 2: "Bottom-up statt Top-down – so wi
 rd Ostbrandenburg zur Modellregion für individuelle Karrierewege"
END:VEVENT
END:VCALENDAR
