BEGIN:VCALENDAR
VERSION:2.0
PRODID:-//pretix//pretix.eu//
BEGIN:VTIMEZONE
TZID:Europe/Berlin
BEGIN:STANDARD
DTSTART:20001029T040000
RRULE:FREQ=YEARLY;BYDAY=-1SU;BYMONTH=10
TZNAME:CET
TZOFFSETFROM:+0200
TZOFFSETTO:+0100
END:STANDARD
BEGIN:DAYLIGHT
DTSTART:20000326T030000
RRULE:FREQ=YEARLY;BYDAY=-1SU;BYMONTH=3
TZNAME:CEST
TZOFFSETFROM:+0100
TZOFFSETTO:+0200
END:DAYLIGHT
END:VTIMEZONE
BEGIN:VEVENT
UID:pretix-dabb-ki-infocafe-jan-0@pretix.eu
DTSTART;TZID=Europe/Berlin:20250121T130000
DTEND;TZID=Europe/Berlin:20250121T143000
DESCRIPTION:Tickets: https://pretix.eu/dabb/ki-infocafe-jan/\nVeranstalter:
  DigitalAgentur Brandenburg GmbH
DTSTAMP:20260420T094057Z
LOCATION:Online-Veranstaltung
SUMMARY:Info-Café „Ethik und Recht – die Rolle der KI-Verordnung für 
 die Kommunalverwaltung"
END:VEVENT
END:VCALENDAR
