BEGIN:VCALENDAR
VERSION:2.0
PRODID:-//pretix//pretix.eu//
BEGIN:VTIMEZONE
TZID:Europe/Berlin
BEGIN:STANDARD
DTSTART:20001029T040000
RRULE:FREQ=YEARLY;BYDAY=-1SU;BYMONTH=10
TZNAME:CET
TZOFFSETFROM:+0200
TZOFFSETTO:+0100
END:STANDARD
BEGIN:DAYLIGHT
DTSTART:20000326T030000
RRULE:FREQ=YEARLY;BYDAY=-1SU;BYMONTH=3
TZNAME:CEST
TZOFFSETFROM:+0100
TZOFFSETTO:+0200
END:DAYLIGHT
END:VTIMEZONE
BEGIN:VEVENT
UID:pretix-danielleismann-claude-basics-05-2026-0@pretix.eu
DTSTART;TZID=Europe/Berlin:20260523T090000
DTEND;TZID=Europe/Berlin:20260523T130000
DESCRIPTION:Tickets: https://pretix.eu/danielleismann/claude-basics-05-2026
 /\nVeranstalter: Daniel Leismann
DTSTAMP:20260425T003028Z
LOCATION:St. Wendel (Location wird noch bekanntgegeben)
SUMMARY:Claude for Business | Strategischer Einsatz von KI für effiziente 
 Arbeitsprozesse
END:VEVENT
END:VCALENDAR
