BEGIN:VCALENDAR
VERSION:2.0
PRODID:-//pretix//pretix.eu//
BEGIN:VTIMEZONE
TZID:Europe/Berlin
BEGIN:STANDARD
DTSTART:20001029T040000
RRULE:FREQ=YEARLY;BYDAY=-1SU;BYMONTH=10
TZNAME:CET
TZOFFSETFROM:+0200
TZOFFSETTO:+0100
END:STANDARD
BEGIN:DAYLIGHT
DTSTART:20000326T030000
RRULE:FREQ=YEARLY;BYDAY=-1SU;BYMONTH=3
TZNAME:CEST
TZOFFSETFROM:+0100
TZOFFSETTO:+0200
END:DAYLIGHT
END:VTIMEZONE
BEGIN:VEVENT
UID:pretix-dav-mainz-vortrag2604-0@pretix.eu
DTSTART;TZID=Europe/Berlin:20261019T193000
DTEND;TZID=Europe/Berlin:20261019T203000
DESCRIPTION:Tickets: https://pretix.eu/dav-mainz/vortrag2604/\nEinlass: 19.
 10.2026 18:30\nVeranstalter: Sektion Mainz des Deutschen Alpenvereins e.V.
DTSTAMP:20260424T124629Z
LOCATION:meet | up - Bürgerhaus Weisenau\, Friedrich-Ebert-Str. 61\, 55130
  Mainz
SUMMARY:Prof. Forster: Transformationen im Schweizer Berggebiet
END:VEVENT
END:VCALENDAR
