BEGIN:VCALENDAR
VERSION:2.0
PRODID:-//pretix//pretix.eu//
BEGIN:VTIMEZONE
TZID:Europe/Berlin
BEGIN:STANDARD
DTSTART:20001029T040000
RRULE:FREQ=YEARLY;BYDAY=-1SU;BYMONTH=10
TZNAME:CET
TZOFFSETFROM:+0200
TZOFFSETTO:+0100
END:STANDARD
BEGIN:DAYLIGHT
DTSTART:20000326T030000
RRULE:FREQ=YEARLY;BYDAY=-1SU;BYMONTH=3
TZNAME:CEST
TZOFFSETFROM:+0100
TZOFFSETTO:+0200
END:DAYLIGHT
END:VTIMEZONE
BEGIN:VEVENT
UID:pretix-dav-mainz-vortrag2704-0@pretix.eu
DTSTART;TZID=Europe/Berlin:20270415T193000
DTEND;TZID=Europe/Berlin:20270415T203000
DESCRIPTION:Tickets: https://pretix.eu/dav-mainz/vortrag2704/\nEinlass: 15.
 04.2027 18:30\nVeranstalter: Sektion Mainz des Deutschen Alpenvereins e.V.
DTSTAMP:20260425T005346Z
LOCATION:meet | up - Bürgerhaus Weisenau\, Friedrich-Ebert-Str. 61\, 55130
  Mainz
SUMMARY:Frau am Berg - wir müssen reden!
END:VEVENT
END:VCALENDAR
