BEGIN:VCALENDAR
VERSION:2.0
PRODID:-//pretix//pretix.eu//
BEGIN:VTIMEZONE
TZID:Europe/Berlin
BEGIN:STANDARD
DTSTART:20001029T040000
RRULE:FREQ=YEARLY;BYDAY=-1SU;BYMONTH=10
TZNAME:CET
TZOFFSETFROM:+0200
TZOFFSETTO:+0100
END:STANDARD
BEGIN:DAYLIGHT
DTSTART:20000326T030000
RRULE:FREQ=YEARLY;BYDAY=-1SU;BYMONTH=3
TZNAME:CEST
TZOFFSETFROM:+0100
TZOFFSETTO:+0200
END:DAYLIGHT
END:VTIMEZONE
BEGIN:VEVENT
UID:pretix-dbs-kita-schule-4855843@pretix.eu
DTSTART;TZID=Europe/Berlin:20260522T110000
DTEND;TZID=Europe/Berlin:20260522T120000
DESCRIPTION:Tickets: https://pretix.eu/dbs/kita-schule/4855843/\nEinlass: 2
 2.05.2026 10:50\nVeranstalter: Die Bremer Stadtreinigung AöR
DTSTAMP:20260425T005318Z
LOCATION:Nachbarschaftshaus Helene Kaisen - na'
SUMMARY:Halt! Das brauch ich noch! - Abfalltheater für Bremer Kitas und Gr
 undschulen
END:VEVENT
END:VCALENDAR
